BEGIN:VCALENDAR
VERSION:2.0
PRODID:-//Smokin’ Jack’s BBQ - ECPv6.15.20//NONSGML v1.0//EN
CALSCALE:GREGORIAN
METHOD:PUBLISH
X-WR-CALNAME:Smokin’ Jack’s BBQ
X-ORIGINAL-URL:https://smokinjacks-bbq.com
X-WR-CALDESC:Events for Smokin’ Jack’s BBQ
REFRESH-INTERVAL;VALUE=DURATION:PT1H
X-Robots-Tag:noindex
X-PUBLISHED-TTL:PT1H
BEGIN:VTIMEZONE
TZID:America/Chicago
BEGIN:DAYLIGHT
TZOFFSETFROM:-0600
TZOFFSETTO:-0500
TZNAME:CDT
DTSTART:20250309T080000
END:DAYLIGHT
BEGIN:STANDARD
TZOFFSETFROM:-0500
TZOFFSETTO:-0600
TZNAME:CST
DTSTART:20251102T070000
END:STANDARD
BEGIN:DAYLIGHT
TZOFFSETFROM:-0600
TZOFFSETTO:-0500
TZNAME:CDT
DTSTART:20260308T080000
END:DAYLIGHT
BEGIN:STANDARD
TZOFFSETFROM:-0500
TZOFFSETTO:-0600
TZNAME:CST
DTSTART:20261101T070000
END:STANDARD
BEGIN:DAYLIGHT
TZOFFSETFROM:-0600
TZOFFSETTO:-0500
TZNAME:CDT
DTSTART:20270314T080000
END:DAYLIGHT
BEGIN:STANDARD
TZOFFSETFROM:-0500
TZOFFSETTO:-0600
TZNAME:CST
DTSTART:20271107T070000
END:STANDARD
END:VTIMEZONE
BEGIN:VEVENT
DTSTART;TZID=America/Chicago:20260424T180000
DTEND;TZID=America/Chicago:20260424T210000
DTSTAMP:20260423T134502
CREATED:20260226T172710Z
LAST-MODIFIED:20260331T174927Z
UID:10375-1777053600-1777064400@smokinjacks-bbq.com
SUMMARY:Live Music: Ray David at Smokin’ Jack’s BBQ
DESCRIPTION:Join us April 24 from 6-9PM for live music with Ray David at Smokin’ Jack’s BBQ in Mundelein. Grab slow-smoked brisket\, cold drinks\, and enjoy a high-energy sports bar atmosphere with friends and family.
URL:https://smokinjacks-bbq.com/event/live-music-ray-david-at-smokin-jacks-bbq/
LOCATION:Smokin’ Jack’s BBQ\, 32 E Park St\, Mundelein\, IL\, 60060\, United States
ATTACH;FMTTYPE=image/jpeg:https://smokinjacks-bbq.com/wp-content/uploads/2026/02/smokin-jacks-bbq-barbecue-restaurant-mundelein-illinois-live-music-guitar.jpg
END:VEVENT
BEGIN:VEVENT
DTSTART;TZID=America/Chicago:20260428T150000
DTEND;TZID=America/Chicago:20260428T233000
DTSTAMP:20260423T134502
CREATED:20260226T173129Z
LAST-MODIFIED:20260226T173254Z
UID:10380-1777388400-1777419000@smokinjacks-bbq.com
SUMMARY:Friends Trivia Night at Smokin’ Jack’s BBQ
DESCRIPTION:Pivot into fun at Friends-themed Trivia Night on Tuesday\, April 28 at Smokin’ Jack’s BBQ in Mundelein. Enjoy themed specials all day and regular trivia at 7PM. Bring your team\, grab BBQ and cold beer\, and test your sitcom knowledge.
URL:https://smokinjacks-bbq.com/event/friends-trivia-night-at-smokin-jacks-bbq/
LOCATION:Smokin’ Jack’s BBQ\, 32 E Park St\, Mundelein\, IL\, 60060\, United States
ATTACH;FMTTYPE=image/jpeg:https://smokinjacks-bbq.com/wp-content/uploads/2025/04/smokin-jacks-bbq-barbecue-restaurant-mundelein-illinois-trivia.jpg
END:VEVENT
BEGIN:VEVENT
DTSTART;TZID=America/Chicago:20260524T170000
DTEND;TZID=America/Chicago:20260524T183000
DTSTAMP:20260423T134502
CREATED:20260130T203356Z
LAST-MODIFIED:20260130T203356Z
UID:10198-1779642000-1779647400@smokinjacks-bbq.com
SUMMARY:Concerts in the Park
DESCRIPTION:Kick back and enjoy live music in the park with friends\, family\, and neighbors at Mundelein’s Concerts in the Park. Make a night of it — grab dinner or drinks at Smokin’ Jack’s BBQ before or after the show\, just minutes away on E Park Street. Great music pairs perfectly with slow-smoked barbecue and cold beer.
URL:https://smokinjacks-bbq.com/event/concerts-in-the-park/
LOCATION:Smokin’ Jack’s BBQ\, 32 E Park St\, Mundelein\, IL\, 60060\, United States
ATTACH;FMTTYPE=image/jpeg:https://smokinjacks-bbq.com/wp-content/uploads/2026/01/smokin-jacks-bbq-barbecue-restaurant-mundelein-illinois-concerts-n-park.jpg
END:VEVENT
BEGIN:VEVENT
DTSTART;TZID=America/Chicago:20260606T080000
DTEND;TZID=America/Chicago:20260606T120000
DTSTAMP:20260423T134502
CREATED:20260130T221126Z
LAST-MODIFIED:20260130T221126Z
UID:10202-1780732800-1780747200@smokinjacks-bbq.com
SUMMARY:Farmers Market
DESCRIPTION:Start your Saturday at the Mundelein Farmers Market with fresh produce\, local vendors\, and community vibes. When you’re ready for something heartier\, swing by Smokin’ Jack’s BBQ for lunch\, daily specials\, or a refreshing drink — conveniently located just steps away on E Park Street.
URL:https://smokinjacks-bbq.com/event/farmers-market/
LOCATION:Smokin’ Jack’s BBQ\, 32 E Park St\, Mundelein\, IL\, 60060\, United States
ATTACH;FMTTYPE=image/jpeg:https://smokinjacks-bbq.com/wp-content/uploads/2026/01/smokin-jacks-bbq-barbecue-restaurant-mundelein-illinois-farmers-market.jpg
END:VEVENT
BEGIN:VEVENT
DTSTART;TZID=America/Chicago:20260702T080000
DTEND;TZID=America/Chicago:20260705T170000
DTSTAMP:20260423T134502
CREATED:20260130T221232Z
LAST-MODIFIED:20260130T221232Z
UID:10205-1782979200-1783270800@smokinjacks-bbq.com
SUMMARY:Community Days Fest
DESCRIPTION:Celebrate summer at Mundelein Community Days with carnival rides\, live entertainment\, food vendors\, and fireworks. With E Park Street buzzing all weekend\, Smokin’ Jack’s BBQ is the perfect spot to fuel up between events with smoked barbecue\, cold drinks\, and game-day TVs.
URL:https://smokinjacks-bbq.com/event/community-days-fest/
LOCATION:Smokin’ Jack’s BBQ\, 32 E Park St\, Mundelein\, IL\, 60060\, United States
ATTACH;FMTTYPE=image/jpeg:https://smokinjacks-bbq.com/wp-content/uploads/2026/01/smokin-jacks-bbq-barbecue-restaurant-mundelein-illinois-community-days.jpg
END:VEVENT
BEGIN:VEVENT
DTSTART;TZID=America/Chicago:20260720T090000
DTEND;TZID=America/Chicago:20260720T200000
DTSTAMP:20260423T134502
CREATED:20260130T221329Z
LAST-MODIFIED:20260130T221329Z
UID:10208-1784538000-1784577600@smokinjacks-bbq.com
SUMMARY:Mundelein Grand Prix
DESCRIPTION:Cheer on cyclists during the Mundelein Grand Prix — a full day of racing\, activities\, and downtown excitement. When hunger strikes\, head over to Smokin’ Jack’s BBQ for award-worthy barbecue\, craft beer\, and a front-row seat to the community action just off the course.
URL:https://smokinjacks-bbq.com/event/mundelein-grand-prix/
LOCATION:Smokin’ Jack’s BBQ\, 32 E Park St\, Mundelein\, IL\, 60060\, United States
ATTACH;FMTTYPE=image/jpeg:https://smokinjacks-bbq.com/wp-content/uploads/2026/01/smokin-jacks-bbq-barbecue-restaurant-mundelein-illinois-grand-prix.jpg
END:VEVENT
BEGIN:VEVENT
DTSTART;TZID=America/Chicago:20260808T180000
DTEND;TZID=America/Chicago:20260808T220000
DTSTAMP:20260423T134502
CREATED:20260130T221416Z
LAST-MODIFIED:20260130T221416Z
UID:10211-1786212000-1786226400@smokinjacks-bbq.com
SUMMARY:National Night Out
DESCRIPTION:Join neighbors and local first responders for National Night Out — a fun evening focused on community connection and safety. After the festivities\, stop by Smokin’ Jack’s BBQ to unwind with great food\, drinks\, and friendly faces right in the heart of Mundelein.
URL:https://smokinjacks-bbq.com/event/national-night-out/
LOCATION:Smokin’ Jack’s BBQ\, 32 E Park St\, Mundelein\, IL\, 60060\, United States
ATTACH;FMTTYPE=image/jpeg:https://smokinjacks-bbq.com/wp-content/uploads/2026/01/smokin-jacks-bbq-barbecue-restaurant-mundelein-illinois-night-out.jpg
END:VEVENT
END:VCALENDAR